BEGIN:VCALENDAR
VERSION:2.0
PRODID:-//Open Minds Early School - ECPv6.15.20//NONSGML v1.0//EN
CALSCALE:GREGORIAN
METHOD:PUBLISH
X-WR-CALNAME:Open Minds Early School
X-ORIGINAL-URL:https://openmindsearlyschool.org
X-WR-CALDESC:Events for Open Minds Early School
REFRESH-INTERVAL;VALUE=DURATION:PT1H
X-Robots-Tag:noindex
X-PUBLISHED-TTL:PT1H
BEGIN:VTIMEZONE
TZID:America/Los_Angeles
BEGIN:DAYLIGHT
TZOFFSETFROM:-0800
TZOFFSETTO:-0700
TZNAME:PDT
DTSTART:20240310T100000
END:DAYLIGHT
BEGIN:STANDARD
TZOFFSETFROM:-0700
TZOFFSETTO:-0800
TZNAME:PST
DTSTART:20241103T090000
END:STANDARD
BEGIN:DAYLIGHT
TZOFFSETFROM:-0800
TZOFFSETTO:-0700
TZNAME:PDT
DTSTART:20250309T100000
END:DAYLIGHT
BEGIN:STANDARD
TZOFFSETFROM:-0700
TZOFFSETTO:-0800
TZNAME:PST
DTSTART:20251102T090000
END:STANDARD
BEGIN:DAYLIGHT
TZOFFSETFROM:-0800
TZOFFSETTO:-0700
TZNAME:PDT
DTSTART:20260308T100000
END:DAYLIGHT
BEGIN:STANDARD
TZOFFSETFROM:-0700
TZOFFSETTO:-0800
TZNAME:PST
DTSTART:20261101T090000
END:STANDARD
END:VTIMEZONE
BEGIN:VEVENT
DTSTART;TZID=America/Los_Angeles:20251202T103000
DTEND;TZID=America/Los_Angeles:20251202T110000
DTSTAMP:20260425T030414
CREATED:20240605T162557Z
LAST-MODIFIED:20240605T162557Z
UID:12010-1764671400-1764673200@openmindsearlyschool.org
SUMMARY:PreSchool Tour
DESCRIPTION:Tour for interested families. \nSign up for a Tour
URL:https://openmindsearlyschool.org/events/preschool-tour-68/
LOCATION:2162 Mountain Blvd\, Oakland\, CA 94611\, USA
END:VEVENT
BEGIN:VEVENT
DTSTART;TZID=America/Los_Angeles:20251205T103000
DTEND;TZID=America/Los_Angeles:20251205T111500
DTSTAMP:20260425T030414
CREATED:20240605T162557Z
LAST-MODIFIED:20240605T162557Z
UID:12011-1764930600-1764933300@openmindsearlyschool.org
SUMMARY:Tour
DESCRIPTION:Tour for interested families.  \nSign up for an After School Tour
URL:https://openmindsearlyschool.org/events/tour-65/
END:VEVENT
BEGIN:VEVENT
DTSTART;TZID=America/Los_Angeles:20251209T103000
DTEND;TZID=America/Los_Angeles:20251209T110000
DTSTAMP:20260425T030414
CREATED:20240605T162558Z
LAST-MODIFIED:20240605T162558Z
UID:12012-1765276200-1765278000@openmindsearlyschool.org
SUMMARY:PreSchool Tour
DESCRIPTION:Tour for interested families. \nSign up for a Tour
URL:https://openmindsearlyschool.org/events/preschool-tour-69/
LOCATION:2162 Mountain Blvd\, Oakland\, CA 94611\, USA
END:VEVENT
BEGIN:VEVENT
DTSTART;TZID=America/Los_Angeles:20251212T103000
DTEND;TZID=America/Los_Angeles:20251212T111500
DTSTAMP:20260425T030414
CREATED:20240605T162558Z
LAST-MODIFIED:20240605T162558Z
UID:12013-1765535400-1765538100@openmindsearlyschool.org
SUMMARY:Tour
DESCRIPTION:Tour for interested families.  \nSign up for an After School Tour
URL:https://openmindsearlyschool.org/events/tour-66/
END:VEVENT
BEGIN:VEVENT
DTSTART;TZID=America/Los_Angeles:20251216T103000
DTEND;TZID=America/Los_Angeles:20251216T110000
DTSTAMP:20260425T030414
CREATED:20240605T162559Z
LAST-MODIFIED:20240605T162559Z
UID:12014-1765881000-1765882800@openmindsearlyschool.org
SUMMARY:PreSchool Tour
DESCRIPTION:Tour for interested families. \nSign up for a Tour
URL:https://openmindsearlyschool.org/events/preschool-tour-70/
LOCATION:2162 Mountain Blvd\, Oakland\, CA 94611\, USA
END:VEVENT
BEGIN:VEVENT
DTSTART;TZID=America/Los_Angeles:20251219T103000
DTEND;TZID=America/Los_Angeles:20251219T111500
DTSTAMP:20260425T030414
CREATED:20240605T162559Z
LAST-MODIFIED:20240605T162559Z
UID:12015-1766140200-1766142900@openmindsearlyschool.org
SUMMARY:Tour
DESCRIPTION:Tour for interested families.  \nSign up for an After School Tour
URL:https://openmindsearlyschool.org/events/tour-67/
END:VEVENT
BEGIN:VEVENT
DTSTART;TZID=America/Los_Angeles:20251223T103000
DTEND;TZID=America/Los_Angeles:20251223T110000
DTSTAMP:20260425T030414
CREATED:20240605T162601Z
LAST-MODIFIED:20240605T162601Z
UID:12016-1766485800-1766487600@openmindsearlyschool.org
SUMMARY:PreSchool Tour
DESCRIPTION:Tour for interested families. \nSign up for a Tour
URL:https://openmindsearlyschool.org/events/preschool-tour-71/
LOCATION:2162 Mountain Blvd\, Oakland\, CA 94611\, USA
END:VEVENT
BEGIN:VEVENT
DTSTART;TZID=America/Los_Angeles:20251226T103000
DTEND;TZID=America/Los_Angeles:20251226T111500
DTSTAMP:20260425T030414
CREATED:20240605T162602Z
LAST-MODIFIED:20240605T162602Z
UID:12017-1766745000-1766747700@openmindsearlyschool.org
SUMMARY:Tour
DESCRIPTION:Tour for interested families.  \nSign up for an After School Tour
URL:https://openmindsearlyschool.org/events/tour-68/
END:VEVENT
BEGIN:VEVENT
DTSTART;TZID=America/Los_Angeles:20251230T103000
DTEND;TZID=America/Los_Angeles:20251230T110000
DTSTAMP:20260425T030414
CREATED:20240605T162603Z
LAST-MODIFIED:20240605T162603Z
UID:12018-1767090600-1767092400@openmindsearlyschool.org
SUMMARY:PreSchool Tour
DESCRIPTION:Tour for interested families. \nSign up for a Tour
URL:https://openmindsearlyschool.org/events/preschool-tour-72/
LOCATION:2162 Mountain Blvd\, Oakland\, CA 94611\, USA
END:VEVENT
END:VCALENDAR